{"text_format":"1","workbook":"xlsx","n_sheets":20,"sheets":["In (202001_0101)","In (101003_0101)","Out","History","In_def","In_M","In_PDc","In_LDc","In_TDc","In_WDc","In_XDc","In_SDc","In_NDc","In_PP","In_LP","In_TP","In_WP","In_XP","In_SP","In_NP"],"not_rendered":{"charts":0,"images":12,"macros":1,"external_links":0,"defined_names":0,"comments":14,"pivot_tables":0},"unopened":[],"bounds":{"document_bytes":16777216,"sheet_cells":100000,"rows_first":2000,"rows_last":500,"rows_between":2000,"halvings":0,"cell_chars":16384,"cell_head_chars":4096},"cells_cut":0,"cells_raw":0,"read":"whole","date_system":"1900"}

{"sheet":"In (202001_0101)","index":0,"n_rows":40,"n_cols":54,"rows_kept":40,"cut":false,"hidden":false,"merged":[[6,38,6,40],[6,41,6,43],[4,14,4,16],[4,17,4,19],[5,14,5,16],[5,17,5,19],[6,14,6,16],[6,17,6,19],[4,20,4,22],[4,23,4,25],[5,23,5,25],[6,23,6,25],[6,26,6,28],[6,29,6,31],[4,32,4,34],[4,35,4,37],[5,32,5,34],[5,35,5,37],[6,32,6,34],[6,35,6,37],[6,2,6,4],[6,5,6,7],[1,2,1,4],[1,5,1,7],[2,2,2,4],[2,5,2,7],[3,2,3,4],[3,5,3,7],[5,20,5,22],[6,20,6,22],[1,20,1,22],[1,14,1,16],[1,17,1,19],[2,14,2,16],[2,17,2,19],[3,14,3,16],[3,17,3,19],[4,2,4,4],[4,5,4,7],[5,2,5,4],[5,5,5,7],[1,23,1,25],[2,20,2,22],[2,23,2,25],[3,20,3,22],[3,23,3,25],[4,26,4,28],[4,29,4,31],[5,26,5,28],[5,29,5,31],[1,26,1,28],[1,29,1,31],[2,26,2,28],[2,29,2,31],[3,26,3,28],[3,29,3,31],[1,32,1,34],[1,35,1,37],[2,32,2,34],[2,35,2,37],[3,32,3,34],[3,35,3,37],[5,38,5,40],[5,41,5,43],[5,44,5,46],[3,38,3,40],[3,41,3,43],[3,44,3,46],[1,38,1,40],[1,41,1,43],[1,44,1,46],[5,47,5,49],[5,50,5,52],[5,53,5,55],[4,38,4,40],[4,41,4,43],[4,44,4,46],[4,47,4,49],[4,50,4,52],[4,53,4,55],[1,47,1,49],[1,50,1,52],[1,53,1,55],[4,8,4,10],[4,11,4,13],[5,8,5,10],[5,11,5,13],[6,8,6,10],[6,11,6,13],[1,8,1,10],[1,11,1,13],[2,8,2,10],[2,11,2,13],[3,8,3,10],[3,11,3,13],[3,47,3,49],[3,50,3,52],[3,53,3,55],[2,38,2,40],[2,41,2,43],[2,44,2,46],[2,47,2,49],[2,50,2,52],[2,53,2,55]]}
[{"$f":"In_def!H2","v":"Automatic Routing Software / β20230521 / Gagaarin"}]
[null,null,"マス列",null,null,20,null,null,"始点",null,null,"S",null,null,"経路点",null,null,"○",null,null,"評価(長さ)",null,null,1,null,null,"計算法",null,null,"D法",null,null,"VRML出力",null,null,"Y",null,null,"用途",null,null,"上水給水管",null,null,"施工場所",null,null,"屋内隠蔽",null,null,"単位損失",null,null,0.98]
[null,null,"マス行",null,null,20,null,null,"終点",null,null,"E",null,null,"貫通経路点",null,null,"◎",null,null,"評価(曲がり)",null,null,2,null,null,"1N計算法",null,null,"総合法",null,null,"IFC出力",null,null,"N",null,null,"接続工法",null,null,"ねじ込み",null,null,"工事項目",null,null,"給水工事"]
[null,null,"マス高",null,null,1,null,null,"障害点",null,null,"■",null,null,"優先経路点",null,null,"◇",null,null,"評価(貫通)",null,null,3,null,null,"NN計算法",null,null,"TC法",null,null,"円分割数",null,null,16,null,null,"管種",null,null,"SGP白",null,null,"保温区分",null,null,1]
[null,null,"マス辺長",null,null,500,null,null,"貫通障害点",null,null,"□",null,null,"中間経路点",null,null,null,null,null,"評価(鳥居)",null,null,5,null,null,"絞り込み",null,null,"低",null,null,"作成面",null,null,"内外",null,null,"定尺",null,null,2000,null,null,"塗装区分",null,null,1]
[null,null,"障害点数",null,null,80,null,null,"優先点",null,null,"☆",null,null,"始点流量",null,null,0,null,null,"評価(ソケット)",null,null,1,null,null,"絞り込み2",null,null,"ランダム",null,null,"配管・ダクト",null,null,"配管",null,null,"最短長",null,null,100]
[null,null,"貫通障害点数",null,null,10,null,null,"中間点",null,null,"",null,null,"終点流量",null,null,0,null,null,"評価(優先)",null,null,-20,null,null,null,null,null,null,null,null,null,null,null,null,null,null,"断熱厚さ",null,null,0]
[]
[null,null,"始点座標",null,null,""]
[null,null,"終点座標",null,null,""]
[null,null,"経路文字列",null,null,""]
[null,null,"経路長さ",null,null,""]
[null,null,"曲がり数",null,null,""]
[null,null,"貫通数",null,null,""]
[null,null,"鳥居数",null,null,""]
[null,null,"ソケット数",null,null,""]
[null,null,"優先数",null,null,""]
[null,null,"経路評価",null,null,""]
[null,null,"計算時間",null,null,""]
[null,null,1,1,2,3,4,5,6,7,8,9,10,11,12,13,14,15,16,17,18,19,20]
[null,null,1,"S1",null,null,"□","■",null,null,"□",null,null,"■",null,null,null,null,"■",null,"■","■"]
[null,null,2,null,null,null,null,"■",null,null,null,null,null,"■",null,"■","■",null,null,"■"]
[null,null,3,null,null,null,null,null,null,null,null,null,null,"■",null,null,null,"■"]
[null,null,4,null,null,null,null,"■",null,null,null,null,null,"■",null,null,null,null,null,null,null,null,"■"]
[null,null,5,null,"■",null,null,null,null,"■","■",null,"■",null,null,null,null,null,"■","■",null,"■"]
[null,null,6,null,null,"■",null,"■",null,null,null,null,null,null,null,null,"■",null,null,"□"]
[null,null,7,null,null,null,"■",null,null,null,null,null,"■",null,null,null,null,null,null,"■","□","■"]
[null,null,8,null,null,null,"■","□","□","□",null,"■",null,null,null,null,null,"E",null,null,null,null,"■"]
[null,null,9,null,null,null,null,"■",null,null,null,null,"■",null,null,"□","■"]
[null,null,10,null,"■",null,null,null,"■","■","■","■","■",null,null,"□",null,null,"■",null,null,null,"■"]
[null,null,11,"■",null,null,null,null,null,null,null,null,null,null,"■","□",null,null,"■"]
[null,null,12,null,null,null,null,null,null,null,"■",null,null,null,"■","□",null,null,"■","■",null,"■","■"]
[null,null,13,null,null,null,null,null,"■",null,null,null,null,null,"■","□",null,"■",null,"■",null,"■","■"]
[null,null,14,null,"E",null,"□",null,null,null,"■",null,null,"■"]
[null,null,15,null,null,null,"■",null,null,null,null,null,null,null,null,"□",null,"■",null,null,null,"■","■"]
[null,null,16,null,null,null,null,null,null,null,null,"■",null,null,null,"□",null,null,null,"■","■"]
[null,null,17,"■",null,"■",null,"☆","☆","☆","☆",null,null,"■",null,null,null,"■",null,null,null,"■","■"]
[null,null,18,null,null,null,null,null,null,null,null,"■","■",null,null,null,null,null,null,null,"■","□","■"]
[null,null,19,null,"■",null,"■",null,"■",null,null,null,null,null,null,null,null,"■","■"]
[null,null,20,"■",null,null,null,null,null,null,"■",null,"■",null,null,null,null,null,null,"■",null,null,"E1"]

{"sheet":"In (101003_0101)","index":1,"n_rows":30,"n_cols":54,"rows_kept":30,"cut":false,"hidden":false,"merged":[[6,38,6,40],[6,41,6,43],[6,20,6,22],[6,23,6,25],[6,26,6,28],[6,29,6,31],[6,32,6,34],[6,35,6,37],[6,2,6,4],[6,5,6,7],[6,8,6,10],[6,11,6,13],[6,14,6,16],[6,17,6,19],[5,47,5,49],[5,50,5,52],[5,53,5,55],[5,20,5,22],[5,23,5,25],[5,26,5,28],[5,29,5,31],[5,32,5,34],[5,35,5,37],[5,2,5,4],[5,5,5,7],[5,8,5,10],[5,11,5,13],[5,14,5,16],[5,17,5,19],[4,38,4,40],[4,41,4,43],[4,44,4,46],[4,2,4,4],[4,5,4,7],[4,8,4,10],[4,11,4,13],[4,14,4,16],[4,17,4,19],[5,38,5,40],[5,41,5,43],[5,44,5,46],[4,47,4,49],[4,50,4,52],[4,53,4,55],[4,20,4,22],[4,23,4,25],[4,26,4,28],[4,29,4,31],[4,32,4,34],[4,35,4,37],[3,47,3,49],[3,50,3,52],[3,53,3,55],[3,20,3,22],[3,23,3,25],[3,26,3,28],[3,29,3,31],[3,32,3,34],[3,35,3,37],[3,2,3,4],[3,5,3,7],[3,8,3,10],[3,11,3,13],[3,14,3,16],[3,17,3,19],[2,38,2,40],[2,41,2,43],[2,44,2,46],[2,2,2,4],[2,5,2,7],[2,8,2,10],[2,11,2,13],[2,14,2,16],[2,17,2,19],[3,38,3,40],[3,41,3,43],[3,44,3,46],[2,47,2,49],[2,50,2,52],[2,53,2,55],[2,20,2,22],[2,23,2,25],[2,26,2,28],[2,29,2,31],[2,32,2,34],[2,35,2,37],[1,47,1,49],[1,50,1,52],[1,53,1,55],[1,20,1,22],[1,23,1,25],[1,26,1,28],[1,29,1,31],[1,32,1,34],[1,35,1,37],[1,2,1,4],[1,5,1,7],[1,8,1,10],[1,11,1,13],[1,14,1,16],[1,17,1,19],[1,38,1,40],[1,41,1,43],[1,44,1,46]]}
[{"$f":"In_def!H2","v":"Automatic Routing Software / β20230521 / Gagaarin"}]
[null,null,"マス列",null,null,10,null,null,"始点",null,null,"S",null,null,"経路点",null,null,"○",null,null,"評価(長さ)",null,null,1,null,null,"計算法",null,null,"D法",null,null,"VRML出力",null,null,"Y",null,null,"用途",null,null,"上水給水管",null,null,"施工場所",null,null,"屋内隠蔽",null,null,"単位損失",null,null,0.98]
[null,null,"マス行",null,null,10,null,null,"終点",null,null,"E",null,null,"貫通経路点",null,null,"◎",null,null,"評価(曲がり)",null,null,2,null,null,"1N計算法",null,null,"総合法",null,null,"IFC出力",null,null,"Y1.3",null,null,"接続工法",null,null,"ねじ込み",null,null,"工事項目",null,null,"給水工事"]
[null,null,"マス高",null,null,3,null,null,"障害点",null,null,"■",null,null,"優先経路点",null,null,"◇",null,null,"評価(貫通)",null,null,3,null,null,"NN計算法",null,null,"TC法",null,null,"円分割数",null,null,16,null,null,"管種",null,null,"SGP白",null,null,"保温区分",null,null,1]
[null,null,"マス辺長",null,null,500,null,null,"貫通障害点",null,null,"□",null,null,"中間経路点",null,null,null,null,null,"評価(鳥居)",null,null,5,null,null,"絞り込み",null,null,"低",null,null,"作成面",null,null,"内外",null,null,"定尺",null,null,2000,null,null,"塗装区分",null,null,1]
[null,null,"障害点数",null,null,30,null,null,"優先点",null,null,"☆",null,null,"始点流量",null,null,0,null,null,"評価(ソケット)",null,null,1,null,null,"絞り込み2",null,null,"ランダム",null,null,"配管・ダクト",null,null,"配管",null,null,"最短長",null,null,100]
[null,null,"貫通障害点数",null,null,30,null,null,"中間点",null,null,"",null,null,"終点流量",null,null,300,null,null,"評価(優先)",null,null,-5,null,null,null,null,null,null,null,null,null,null,null,null,null,null,"断熱厚さ",null,null,0]
[]
[null,null,"始点座標",null,null,""]
[null,null,"終点座標",null,null,""]
[null,null,"経路文字列",null,null,""]
[null,null,"経路長さ",null,null,""]
[null,null,"曲がり数",null,null,""]
[null,null,"貫通数",null,null,""]
[null,null,"鳥居数",null,null,""]
[null,null,"ソケット数",null,null,""]
[null,null,"優先数",null,null,""]
[null,null,"経路評価",null,null,""]
[null,null,"計算時間",null,null,""]
[null,null,1,1,2,3,4,5,6,7,8,9,10,2,1,2,3,4,5,6,7,8,9,10,3,1,2,3,4,5,6,7,8,9,10]
[null,null,1,"S",null,"□",null,null,null,null,null,null,null,1,null,null,null,"□",null,null,null,null,null,null,1,null,"■",null,null,"■",null,null,null,null,"■"]
[null,null,2,null,null,null,null,"■","□",null,null,null,null,2,null,null,null,null,null,null,null,null,null,"□",2,null,"■",null,null,null,null,null,null,null,"□"]
[null,null,3,"■",null,null,null,null,null,null,null,null,"□",3,null,"□",null,null,null,null,null,null,null,"■",3,null,null,"■","□","■",null,null,null,"□"]
[null,null,4,null,null,"□",null,"□",null,"□","■","□",null,4,null,"□",null,null,null,"■",null,null,null,null,4,null,null,"□"]
[null,null,5,null,null,null,null,null,"□",null,null,null,null,5,null,"■",null,null,"☆",null,null,null,null,"□",5,null,"□",null,null,null,"■"]
[null,null,6,null,null,null,null,null,null,null,null,null,null,6,null,null,"□",null,"☆","☆",null,"■",null,null,6,null,null,null,null,null,"□"]
[null,null,7,null,null,null,null,null,null,"■","■",null,null,7,"□",null,null,null,null,null,null,null,null,"■",7,null,null,"■",null,"□"]
[null,null,8,null,"□",null,null,null,null,null,null,"□",null,8,null,null,null,null,"□",null,"■",null,null,"□",8,"□",null,null,"■",null,null,null,null,null,"□"]
[null,null,9,null,null,null,"■",null,null,null,null,null,null,9,null,null,null,null,null,"■",null,null,"■",null,9,null,null,null,null,null,null,"■",null,"■"]
[null,null,10,null,null,"■",null,null,null,null,"■",null,null,10,null,null,"■",null,"□",null,null,"■",null,null,10,null,null,null,null,"■",null,null,"□",null,"E"]

{"sheet":"Out","index":2,"n_rows":2,"n_cols":8,"rows_kept":2,"cut":false,"hidden":false,"merged":[]}
["Step","始点列","始点行","始点高","終点列","終点行","終点高","経路文字列"]
[1,1,1,1,20,20,1,"SSSSSSSSEEESESSSSSSSEEESSEEEENEEEEESEEES"]

{"sheet":"History","index":3,"n_rows":80,"n_cols":3,"rows_kept":80,"cut":false,"hidden":false,"merged":[[0,0,0,2]]}
["Specification and History"]
[]
["No.","Date","Description"]
[1,"2013-12-25","1st revision.."]
[2,"2013-12-27","Concept of space map was implemented."]
[3,"2013-12-28","Concept of comparison of one more ways was implemented. Priority is only left - right direction or upper - lower direction."]
[4,"2014-01-07","Input sheet was modified."]
[5,"2014-01-07","Step by step check was added."]
[6,"2014-01-09","String of path was added."]
[7,"2014-01-25","Search of Manhattan distance area was implemented. "]
[8,"2014-02-07","Small letter can be used for start-point and others. "]
[9,"2014-02-23","Automatic setting obstacle was added."]
[10,"2014-02-24","Initialization was modified. Cell border can be re-written. "]
[11,"2014-02-24","Estimation by length and turns was modified."]
[12,"2014-03-12","Search method was modified. If number of turns in calculating exceed set number, calculation will stop.   "]
[13,"2014-03-20","Show of calculation time was corrected."]
[14,"2014-03-20","Search method was modified. If path in calculating conflict obstacle, calculation will stop.   "]
[15,"2014-03-30","Input2 sheet was added. Item's name, location and other can be defined in this sheet. Input2 was renamed to In_def after."]
[16,"2014-04-06","Map space was extended to 3 Dimensions."]
[17,"2014-04-06","Input3 sheet was added. Character of VRML element can be defined in this sheet. Input3 was renamed to In_M after."]
[18,"2014-04-06","VRML file can be generated. "]
[19,"2014-04-08","Obstacle that can be penetrated by path became to be added."]
[20,"2014-04-14","Output sheet was added. Path can be saved."]
[21,"2014-04-14","More than 1 both start and end point can be handled."]
[22,"2014-04-28","Turning back (Detour) search was added."]
[23,"2014-04-29","Some bugs were fixed."]
[24,"2014-05-13","1 start point and more than 1 end point can be handled by sameness method. "]
[25,"2014-06-11","1 start point and more than 1 end point connection logic was modified by center of gravity method."]
[26,"2014-07-23","Some bugs were fixed."]
[27,"2014-07-26","1 start point and more than 1 end point connection logic was modified by order method."]
[28,"2014-07-26","Sameness method, Center of gravity method and Order method can be selected by input condition. "]
[29,"2014-07-28","Baloon for point in VRML were added."]
[30,"2014-07-29","1 start point and more than 1 end point connection logic was modified by reverse order method."]
[31,"2014-07-29","VRML file name was modified by Date and Grid number."]
[32,"2014-07-29","All input sheet including 'Run' Button can be effective."]
[33,"2014-07-30","Not existing name included in sheet was removed."]
[34,"2014-08-04","VRML file had viewpoint data."]
[35,"2014-08-11","Some bugs were fixed."]
[36,"2014-08-12","Center of gravity method was modified as like as Order method."]
[36,"2014-08-12","Path size was defined by sheet."]
[37,"2014-08-14","Path was expressed by cylinder."]
[38,"2014-09-29","Pipe and fitting at actual size can be generated."]
[39,"2014-10-31","Sheet defining building conditions was added. Sheet name is In_Bld."]
[40,"2015-02-16","Some bugs about added sheet were fixed (adjustment)."]
[41,"2015-02-17","IFC file became generated (pipe, N, S, T, X)."]
[42,"2015-02-19","IFC file became generated (all included L)."]
[43,"2015-02-20","Some bugs about getting vector of fitting was fixed."]
[44,"2015-03-03","IFC file can be generated with property set."]
[45,"2015-07-23","Routing method by estimation was added. Also Rooting method by turn was remained. Rooting method by turn was removed after."]
[46,"2015-07-31","Dijkstra's algorithm was adopted for routing caluculation."]
[47,"2015-11-30","Dijkstra's algorithm was adopted for routing caluculation more normaly. It is effective to going back search smoothy."]
[48,"2015-12-07","Up & Down amount can be estimated as well as pipe length, turnamount and sleeve amount.  "]
[49,"2015-12-09","Socket amount can be estmated."]
[50,"2015-12-15","Prior point can be estimated."]
[51,"2016-01-06","Tatch and Cross method was adopted for routing calculation."]
[52,"2016-02-08","1 start point and more than 1 end point can be handled by Integration method. "]
[51,"2016-02-10","Tatch and Cross method was adopted for routing calculation to more than both 1 start point and end point."]
[53,"2016-02-12","Direction of start point and end point can be set."]
[54,"2016-03-14","'BS IFC data definition ver1.3' was applied.  "]
[55,"2016-03-14","Culculation input cells was modified as from 4 lines to 6lines. "]
[56,"2016-05-20","Calculation time can be shown as only for calculation."]
[57,"2016-05-23","Showing of calculation result was modified as 2 lines to 11 lines."]
[58,"2016-06-25","Turning in obstacle that can be penetrated was prohibited."]
[59,"2016-06-26","ReShow' was modified."]
[60,"2016-07-25","Spiral duct was applied. But pipe and spiral duct cannot be changed automatically. "]
[61,"2016-07-26","Expression  of elbow's face was improved horizontaly and vertically.."]
[62,"2016-11-21","Calculation grid can be shown by using IfcAnnotation."]
[63,"2016-12-20","Bug for finding plural end points was fixed."]
[64,"2016-12-20","Method of deciding kind of fitting was improved."]
[65,"2016-12-26","Socket shape can be generated in pipe."]
[66,"2016-12-27","Parts list file can be generated."]
[67,"2017-01-04","Definition of fitting 'W' was added."]
[68,"2017-01-20","Order method was adopted to more than 1 both start and end point."]
[69,"2023-05-01","IFC data output was removed because IFC Server cannot be used."]
[70,"2023-05-21","Sgn function was replaced to SgnRep function for 64bit Excel."]
[71,"2023-07-30","Bag fix about 1:N calculation."]
[72]
[73]
[74]
[75]

{"sheet":"In_def","index":4,"n_rows":60,"n_cols":9,"rows_kept":60,"cut":false,"hidden":false,"merged":[]}
["Key","名称表示行","名称表示列","表示名称","値表示行","値表示列","値種別","値既定","備考"]
["アプリ情報",null,null,null,1,1,"文字","Automatic Routing Software / β20230521 / Gagaarin"]
["動作環境",null,null,null,1,21,"文字","None."]
["マス列",2,3,"マス列",2,6,"整数",20]
["マス行",3,3,"マス行",3,6,"整数",20]
["マス高",4,3,"マス高",4,6,"整数",3]
["マス辺長",5,3,"マス辺長",5,6,"整数",500]
["障害点数",6,3,"障害点数",6,6,"整数",30]
["貫通障害点数",7,3,"貫通障害点数",7,6,"整数",30]
["始点",2,9,"始点",2,12,"文字","S"]
["終点",3,9,"終点",3,12,"文字","E"]
["障害点",4,9,"障害点",4,12,"文字","■"]
["貫通障害点",5,9,"貫通障害点",5,12,"文字","□"]
["優先点",6,9,"優先点",6,12,"文字","☆"]
["中間点",7,9,"中間点",7,12,"文字"]
["経路点",2,15,"経路点",2,18,"文字","○"]
["貫通経路点",3,15,"貫通経路点",3,18,"文字","◎"]
["優先経路点",4,15,"優先経路点",4,18,"文字","◇"]
["中間経路点",5,15,"中間経路点",5,18,"文字"]
["始点流量",6,15,"始点流量",6,18,"整数","0"]
["終点流量",7,15,"終点流量",7,18,"整数","100"]
["評価(長さ)",2,21,"評価(長さ)",2,24,"整数",1]
["評価(曲がり)",3,21,"評価(曲がり)",3,24,"整数",2]
["評価(貫通)",4,21,"評価(貫通)",4,24,"整数",3]
["評価(鳥居)",5,21,"評価(鳥居)",5,24,"整数",2]
["評価(ソケット)",6,21,"評価(ソケット)",6,24,"整数","2"]
["評価(優先)",7,21,"評価(優先)",7,24,"整数","-1"]
["計算法",2,27,"計算法",2,30,"文字","D"]
["1N計算法",3,27,"1N計算法",3,30,"文字","重心法"]
["NN計算法",4,27,"NN計算法",4,30,"文字","重心法"]
["絞り込み",5,27,"絞り込み",5,30,"文字","低"]
["絞り込み2",6,27,"絞り込み2",6,30,"文字","先頭"]
["VRML出力",2,33,"VRML出力",2,36,"文字","Y"]
["IFC出力",3,33,"IFC出力",3,36,"文字","N"]
["円分割数",4,33,"円分割数",4,36,"整数","16"]
["作成面",5,33,"作成面",5,36,"文字","内外"]
["配管・ダクト",6,33,"配管・ダクト",6,36,"文字","配管"]
["用途",2,39,"用途",2,42,"文字","A00","コード出力"]
["接続工法",3,39,"接続工法",3,42,"文字","ねじ込み","コード出力"]
["管種",4,39,"管種",4,42,"文字","SGP白","コード出力"]
["定尺",5,39,"定尺",5,42,"整数","4000"]
["最短長",6,39,"最短長",6,42,"整数","100"]
["断熱厚さ",7,39,"断熱厚さ",7,42,"整数","20"]
["施工場所",2,45,"施工場所",2,48,"文字","屋内隠蔽","文字列出力"]
["工事項目",3,45,"工事項目",3,48,"文字","給水工事","文字列出力"]
["保温区分",4,45,"保温区分",4,48,"文字","1","コード出力"]
["塗装区分",5,45,"塗装区分",5,48,"文字","1","コード出力"]
["単位損失",2,51,"単位損失",2,54,"実数","0.98"]
["始点座標",9,3,"始点座標",9,6,"文字"]
["終点座標",10,3,"終点座標",10,6,"文字"]
["経路文字列",11,3,"経路文字列",11,6,"文字"]
["経路長さ",12,3,"経路長さ",12,6,"文字"]
["曲がり数",13,3,"曲がり数",13,6,"文字"]
["貫通数",14,3,"貫通数",14,6,"文字"]
["鳥居数",15,3,"鳥居数",15,6,"文字"]
["ソケット数",16,3,"ソケット数",16,6,"文字"]
["優先数",17,3,"優先数",17,6,"文字"]
["経路評価",18,3,"経路評価",18,6,"文字"]
["計算時間",19,3,"計算時間",19,6,"文字"]
["マス",20,3,"マス",20,3,"文字"]

{"sheet":"In_M","index":5,"n_rows":42,"n_cols":6,"rows_kept":42,"cut":false,"hidden":false,"merged":[]}
["key","description","diffuseColorR","diffuseColorG","diffuseColorB","transparency"]
["空","sky",0.9,1,1,0]
["地面","ground",1,1,0.9,0]
["マス","grid",0.5,0.5,0.5,0]
["始点","start point",0.5,1,1,0.5]
["終点","end point",1,1,0.5,0.5]
["障害点","obstacle",0.3,0.3,0.3,0.3]
["貫通障害点","penetratable obstacle",0.5,0.5,0.5,0.5]
["優先点","priority",0.5,0.7,0.5,0.5]
["中間点","way",0.5,0.5,0.7,0.5]
["経路点","path",1,0.5,1,0.5]
["貫通経路点","path thru obstacle",1,0.5,0.5,0.5]
["優先経路点","path thru priority",0.5,1,0.5,0.5]
["中間経路点","path thru way",0.5,0.5,1,0.5]
["配管直管","pipe",1,0.5,1,0.5]
["配管継手L","fitting L",1,0.5,1,0.5]
["配管継手T","fitting T",1,0.5,1,0.5]
["配管継手W","fitting T",1,0.5,1,0.5]
["配管継手X","fitting X",1,0.5,1,0.5]
["配管継手S","fitting S",1,0.5,1,0.5]
["配管継手N","fitting N",1,0.5,1,0.5]
["丸ダクト直管","circular duct",0.5,1,1,0.5]
["丸ダクト継手L","fitting L",0.5,1,1,0.5]
["丸ダクト継手T","fitting T",0.5,1,1,0.5]
["丸ダクト継手W","fitting T",0.5,1,1,0.5]
["丸ダクト継手X","fitting X",0.5,1,1,0.5]
["丸ダクト継手S","fitting S",0.5,1,1,0.5]
["丸ダクト継手N","fitting N",0.5,1,1,0.5]
["角ダクト直管","rectangular duct",0.5,1,1,0.5]
["角ダクト継手L","fitting L",0.5,1,1,0.5]
["角ダクト継手T","fitting T",0.5,1,1,0.5]
["角ダクト継手W","fitting T",0.5,1,1,0.5]
["角ダクト継手X","fitting X",0.5,1,1,0.5]
["角ダクト継手S","fitting S",0.5,1,1,0.5]
["角ダクト継手N","fitting N",0.5,1,1,0.5]
["楕円ダクト直管","oval duct",0.5,1,1,0.5]
["楕円ダクト継手L","fitting L",0.5,1,1,0.5]
["楕円ダクト継手T","fitting T",0.5,1,1,0.5]
["楕円ダクト継手W","fitting T",0.5,1,1,0.5]
["楕円ダクト継手X","fitting X",0.5,1,1,0.5]
["楕円ダクト継手S","fitting S",0.5,1,1,0.5]
["楕円ダクト継手N","fitting N",0.5,1,1,0.5]

{"sheet":"In_PDc","index":6,"n_rows":27,"n_cols":11,"rows_kept":27,"cut":false,"hidden":false,"merged":[]}
["pipe_nominal_dia","pipe_thickness","pipe_outer_dia","pipe_inner_dia","fitting_outer_dia","fitting_inner_dia","length_connection","press_loss","flow_volume","flow_velocity","flow_velocity_class"]
[75,0.5,{"$f":"A2+B2*2","v":76},{"$f":"A2","v":75},{"$f":"A2","v":75},{"$f":"E2-B2*2","v":74},{"$f":"IF(A2<150,60,IF(A2<325,80,100))","v":60},0.98,{"$f":"ROUND(((H2/9.8)*((D2/1000)^4.92)/0.0019113)^(1/1.845)*3600,0)","v":31},{"$f":"ROUND((I2/3600)/(((D2/2)/1000)^2*3.1416),1)","v":1.9},{"$f":"IF(J2<15,\"low-speed\",\"high-speed\")","v":"low-speed"}]
[100,0.5,101,{"$f":"A3","v":100},{"$f":"A3","v":100},99,60,{"$f":"H$2","v":0.98},66,2.2999999999999998,{"$f":"IF(J3<15,\"low-speed\",\"high-speed\")","v":"low-speed"}]
[125,0.5,126,{"$f":"A4","v":125},{"$f":"A4","v":125},124,60,0.98,120,2.7,"low-speed"]
[150,0.5,151,150,150,149,80,0.98,195,3.1,"low-speed"]
[175,0.5,176,175,175,174,80,0.98,295,3.4,"low-speed"]
[200,0.5,201,200,200,199,80,0.98,421,3.7,"low-speed"]
[225,0.5,226,225,225,224,80,0.98,576,4,"low-speed"]
[250,0.5,251,250,250,249,80,0.98,763,4.3,"low-speed"]
[275,0.5,276,275,275,274,80,0.98,983,4.5999999999999996,"low-speed"]
[300,0.5,301,300,300,299,80,0.98,1240,4.9000000000000004,"low-speed"]
[325,0.6,326.2,325,325,323.8,100,0.98,1535,5.0999999999999996,"low-speed"]
[350,0.6,351.2,350,350,348.8,100,0.98,1871,5.4,"low-speed"]
[375,0.6,376.2,375,375,373.8,100,0.98,2249,5.7,"low-speed"]
[400,0.6,401.2,400,400,398.8,100,0.98,2671,5.9,"low-speed"]
[450,0.6,451.2,450,450,448.8,100,0.98,3656,6.4,"low-speed"]
[500,0.6,501.2,500,500,498.8,100,0.98,4843,6.9,"low-speed"]
[550,0.6,551.20000000000005,550,550,548.79999999999995,100,0.98,6244,7.3,"low-speed"]
[600,0.6,601.20000000000005,600,600,598.79999999999995,100,0.98,7875,7.7,"low-speed"]
[650,0.8,651.6,650,650,648.4,100,0.98,9748,8.1999999999999993,"low-speed"]
[700,0.8,701.6,700,700,698.4,100,0.98,11878,8.6,"low-speed"]
[750,0.8,751.6,750,750,748.4,100,0.98,14278,9,"low-speed"]
[800,0.8,801.6,800,800,798.4,100,0.98,16959,9.4,"low-speed"]
[850,1,852,850,850,848,100,0.98,19935,9.8000000000000007,"low-speed"]
[900,1,902,900,900,898,100,0.98,23217,10.1,"low-speed"]
[950,1,952,950,950,948,100,0.98,26818,10.5,"low-speed"]
[1000,1,1002,1000,1000,998,100,0.98,30749,10.9,"low-speed"]

{"sheet":"In_LDc","index":7,"n_rows":27,"n_cols":5,"rows_kept":27,"cut":false,"hidden":false,"merged":[]}
["pipe_nominal_dia","dia1","dia3","length_center_face1","length_center_face3"]
[{"$f":"B2&\"*\"&C2","v":"75*75"},75,75,{"$f":"B2*1","v":75},{"$f":"C2*1","v":75}]
["100*100",100,100,{"$f":"B3*1","v":100},{"$f":"C3*1","v":100}]
["125*125",125,125,125,125]
["150*150",150,150,150,150]
["175*175",175,175,175,175]
["200*200",200,200,200,200]
["225*225",225,225,225,225]
["250*250",250,250,250,250]
["275*275",275,275,275,275]
["300*300",300,300,300,300]
["325*325",325,325,325,325]
["350*350",350,350,350,350]
["375*375",375,375,375,375]
["400*400",400,400,400,400]
["450*450",450,450,450,450]
["500*500",500,500,500,500]
["550*550",550,550,550,550]
["600*600",600,600,600,600]
["650*650",650,650,650,650]
["700*700",700,700,700,700]
["750*750",750,750,750,750]
["800*800",800,800,800,800]
["850*850",850,850,850,850]
["900*900",900,900,900,900]
["950*950",950,950,950,950]
["1000*1000",1000,1000,1000,1000]

{"sheet":"In_TDc","index":8,"n_rows":133,"n_cols":7,"rows_kept":133,"cut":false,"hidden":false,"merged":[]}
["pipe_nominal_dia","dia1","dia2","dia3","length_center_face1","length_center_face2","length_center_face3"]
[{"$f":"B2&\"*\"&C2&\"*\"&D2","v":"75*75*75"},75,{"$f":"B2","v":75},75,{"$f":"D2/2+30","v":67.5},{"$f":"E2","v":67.5},{"$f":"B2/2+30","v":67.5}]
["100*100*100",100,100,100,{"$f":"D3/2+30","v":80},{"$f":"E3","v":80},{"$f":"B3/2+30","v":80}]
["100*100*75",100,100,75,67.5,67.5,{"$f":"B4/2+30","v":80}]
["125*125*125",125,125,125,92.5,92.5,92.5]
["125*125*100",125,125,100,80,80,92.5]
["150*150*150",150,150,150,105,105,105]
["150*150*125",150,150,125,92.5,92.5,105]
["150*150*100",150,150,100,80,80,105]
["175*175*175",175,175,175,117.5,117.5,117.5]
["175*175*150",175,175,150,105,105,117.5]
["175*175*125",175,175,125,92.5,92.5,117.5]
["175*175*100",175,175,100,80,80,117.5]
["200*200*200",200,200,200,130,130,130]
["200*200*175",200,200,175,117.5,117.5,130]
["200*200*150",200,200,150,105,105,130]
["200*200*125",200,200,125,92.5,92.5,130]
["200*200*100",200,200,100,80,80,130]
["225*225*225",225,225,225,142.5,142.5,142.5]
["225*225*200",225,225,200,130,130,142.5]
["225*225*175",225,225,175,117.5,117.5,142.5]
["225*225*150",225,225,150,105,105,142.5]
["225*225*125",225,225,125,92.5,92.5,142.5]
["225*225*100",225,225,100,80,80,142.5]
["250*250*250",250,250,250,155,155,155]
["250*250*225",250,250,225,142.5,142.5,155]
["250*250*200",250,250,200,130,130,155]
["250*250*175",250,250,175,117.5,117.5,155]
["250*250*150",250,250,150,105,105,155]
["250*250*125",250,250,125,92.5,92.5,155]
["250*250*100",250,250,100,80,80,155]
["275*275*275",275,275,275,167.5,167.5,167.5]
["275*275*250",275,275,250,155,155,167.5]
[{"$f":"B34&\"*\"&C34&\"*\"&D34","v":"275*275*225"},275,{"$f":"B34","v":275},225,142.5,142.5,167.5]
["275*275*200",275,275,200,130,130,167.5]
["275*275*175",275,275,175,117.5,117.5,167.5]
["275*275*150",275,275,150,105,105,167.5]
["275*275*125",275,275,125,92.5,92.5,167.5]
["275*275*100",275,275,100,80,80,167.5]
["300*300*300",300,300,300,180,180,180]
["300*300*275",300,300,275,167.5,167.5,180]
["300*300*250",300,300,250,155,155,180]
["300*300*225",300,300,225,142.5,142.5,180]
["300*300*200",300,300,200,130,130,180]
["300*300*175",300,300,175,117.5,117.5,180]
["300*300*150",300,300,150,105,105,180]
["300*300*125",300,300,125,92.5,92.5,180]
["300*300*100",300,300,100,80,80,180]
["325*325*325",325,325,325,192.5,192.5,192.5]
["325*325*300",325,325,300,180,180,192.5]
["325*325*275",325,325,275,167.5,167.5,192.5]
["325*325*250",325,325,250,155,155,192.5]
["325*325*225",325,325,225,142.5,142.5,192.5]
["325*325*200",325,325,200,130,130,192.5]
["350*350*350",350,350,350,205,205,205]
["350*350*325",350,350,325,192.5,192.5,205]
["350*350*300",350,350,300,180,180,205]
["350*350*275",350,350,275,167.5,167.5,205]
["350*350*250",350,350,250,155,155,205]
["350*350*225",350,350,225,142.5,142.5,205]
["350*350*200",350,350,200,130,130,205]
["375*375*375",375,375,375,217.5,217.5,217.5]
["375*375*350",375,375,350,205,205,217.5]
["375*375*325",375,375,325,192.5,192.5,217.5]
["375*375*300",375,375,300,180,180,217.5]
[{"$f":"B66&\"*\"&C66&\"*\"&D66","v":"375*375*275"},375,{"$f":"B66","v":375},275,167.5,167.5,217.5]
["375*375*250",375,375,250,{"$f":"D67/2+30","v":155},{"$f":"E67","v":155},217.5]
["400*400*400",400,400,400,230,230,{"$f":"B68/2+30","v":230}]
["400*400*375",400,400,375,217.5,217.5,230]
["400*400*350",400,400,350,205,205,230]
["400*400*325",400,400,325,192.5,192.5,230]
["400*400*300",400,400,300,180,180,230]
["400*400*275",400,400,275,167.5,167.5,230]
["400*400*250",400,400,250,155,155,230]
["450*450*450",450,450,450,255,255,255]
["450*450*400",450,450,400,230,230,255]
["450*450*350",450,450,350,205,205,255]
["450*450*300",450,450,300,180,180,255]
["500*500*500",500,500,500,280,280,280]
["500*500*450",500,500,450,255,255,280]
["500*500*400",500,500,400,230,230,280]
["500*500*350",500,500,350,205,205,280]
["500*500*300",500,500,300,180,180,280]
["550*550*550",550,550,550,305,305,305]
["550*550*500",550,550,500,280,280,305]
["550*550*450",550,550,450,255,255,305]
["550*550*400",550,550,400,230,230,305]
["550*550*350",550,550,350,205,205,305]
["600*600*600",600,600,600,330,330,330]
["600*600*550",600,600,550,305,305,330]
["600*600*500",600,600,500,280,280,330]
["600*600*450",600,600,450,255,255,330]
["600*600*400",600,600,400,230,230,330]
["650*650*650",650,650,650,355,355,355]
["650*650*600",650,650,600,330,330,355]
["650*650*550",650,650,550,305,305,355]
["650*650*500",650,650,500,280,280,355]
[{"$f":"B98&\"*\"&C98&\"*\"&D98","v":"650*650*450"},650,{"$f":"B98","v":650},450,255,255,355]
["700*700*700",700,700,700,380,380,380]
["700*700*650",700,700,650,355,355,380]
["700*700*600",700,700,600,330,330,380]
["700*700*550",700,700,550,305,305,380]
["700*700*500",700,700,500,280,280,380]
["750*750*750",750,750,750,405,405,405]
["750*750*700",750,750,700,380,380,405]
["750*750*650",750,750,650,355,355,405]
["750*750*600",750,750,600,330,330,405]
["750*750*550",750,750,550,305,305,405]
["800*800*800",800,800,800,430,430,430]
["800*800*750",800,800,750,405,405,430]
["800*800*700",800,800,700,380,380,430]
["800*800*650",800,800,650,355,355,430]
["800*800*600",800,800,600,330,330,430]
["850*850*850",850,850,850,455,455,455]
["850*850*800",850,850,800,430,430,455]
["850*850*750",850,850,750,405,405,455]
["850*850*700",850,850,700,380,380,455]
["850*850*650",850,850,650,355,355,455]
["900*900*900",900,900,900,480,480,480]
["900*900*850",900,900,850,455,455,480]
["900*900*800",900,900,800,430,430,480]
["900*900*750",900,900,750,405,405,480]
["900*900*700",900,900,700,380,380,480]
["950*950*950",950,950,950,505,505,505]
["950*950*900",950,950,900,480,480,505]
["950*950*850",950,950,850,455,455,505]
["950*950*800",950,950,800,430,430,505]
["950*950*750",950,950,750,405,405,505]
["1000*1000*1000",1000,1000,1000,530,530,530]
[{"$f":"B130&\"*\"&C130&\"*\"&D130","v":"1000*1000*950"},1000,{"$f":"B130","v":1000},950,505,505,530]
[{"$f":"B131&\"*\"&C131&\"*\"&D131","v":"1000*1000*900"},1000,{"$f":"B131","v":1000},900,{"$f":"D131/2+30","v":480},{"$f":"E131","v":480},530]
[{"$f":"B132&\"*\"&C132&\"*\"&D132","v":"1000*1000*850"},1000,{"$f":"B132","v":1000},850,{"$f":"D132/2+30","v":455},{"$f":"E132","v":455},{"$f":"B132/2+30","v":530}]
[{"$f":"B133&\"*\"&C133&\"*\"&D133","v":"1000*1000*800"},1000,{"$f":"B133","v":1000},800,{"$f":"D133/2+30","v":430},{"$f":"E133","v":430},{"$f":"B133/2+30","v":530}]

{"sheet":"In_WDc","index":9,"n_rows":27,"n_cols":7,"rows_kept":27,"cut":false,"hidden":false,"merged":[]}
["pipe_nominal_dia","dia1","dia3","dia4","length_center_face1","length_center_face3","length_center_face4"]
[{"$f":"B2&\"*\"&C2&\"*\"&D2","v":"75*75*75"},75,75,{"$f":"C2","v":75},{"$f":"C2/2+30","v":67.5},{"$f":"B2/2+30","v":67.5},{"$f":"F2","v":67.5}]
["100*100*100",100,100,100,{"$f":"C3/2+30","v":80},{"$f":"B3/2+30","v":80},{"$f":"F3","v":80}]
["125*125*125",125,125,125,92.5,92.5,92.5]
["150*150*150",150,150,150,105,105,105]
["175*175*175",175,175,175,117.5,117.5,117.5]
["200*200*200",200,200,200,130,130,130]
["225*225*225",225,225,225,142.5,142.5,142.5]
["250*250*250",250,250,250,155,155,155]
["275*275*275",275,275,275,167.5,167.5,167.5]
["300*300*300",300,300,300,180,180,180]
["325*325*325",325,325,325,192.5,192.5,192.5]
["350*350*350",350,350,350,205,205,205]
["375*375*375",375,375,375,217.5,217.5,217.5]
[{"$f":"B15&\"*\"&C15&\"*\"&D15","v":"400*400*400"},400,400,{"$f":"C15","v":400},230,230,230]
["450*450*450",450,450,450,255,255,255]
["500*500*500",500,500,500,280,280,280]
["550*550*550",550,550,550,305,305,305]
["600*600*600",600,600,600,330,330,330]
["650*650*650",650,650,650,355,355,355]
["700*700*700",700,700,700,380,380,380]
["750*750*750",750,750,750,405,405,405]
["800*800*800",800,800,800,430,430,430]
["850*850*850",850,850,850,455,455,455]
["900*900*900",900,900,900,480,480,480]
["950*950*950",950,950,950,505,505,505]
["1000*1000*1000",1000,1000,1000,530,530,530]

{"sheet":"In_XDc","index":10,"n_rows":133,"n_cols":10,"rows_kept":133,"cut":false,"hidden":false,"merged":[]}
["pipe_nominal_dia","dia1","dia2","dia3","dia4","length_plug4","length_center_face1","length_center_face2","length_center_face3","length_center_face4"]
[{"$f":"B2&\"*\"&C2&\"*\"&D2","v":"75*75*75"},75,{"$f":"B2","v":75},75,{"$f":"D2","v":75},{"$f":"IF(E2<150,60,IF(E2<325,80,100))","v":60},{"$f":"(D2+60)/2","v":67.5},{"$f":"G2","v":67.5},{"$f":"B2/2+30","v":67.5},{"$f":"I2","v":67.5}]
["100*100*100",100,100,100,100,{"$f":"IF(E3<150,60,IF(E3<325,80,100))","v":60},80,{"$f":"G3","v":80},80,80]
["100*100*75",100,100,75,75,60,67.5,67.5,80,80]
["125*125*125",125,125,125,125,60,92.5,92.5,92.5,92.5]
["125*125*100",125,125,100,100,60,80,80,92.5,92.5]
["150*150*150",150,150,150,150,80,105,105,105,105]
["150*150*125",150,150,125,125,60,92.5,92.5,105,105]
["150*150*100",150,150,100,100,60,80,80,105,105]
["175*175*175",175,175,175,175,80,117.5,117.5,117.5,117.5]
["175*175*150",175,175,150,150,80,105,105,117.5,117.5]
["175*175*125",175,175,125,125,60,92.5,92.5,117.5,117.5]
["175*175*100",175,175,100,100,60,80,80,117.5,117.5]
["200*200*200",200,200,200,200,80,130,130,130,130]
["200*200*175",200,200,175,175,80,117.5,117.5,130,130]
["200*200*150",200,200,150,150,80,105,105,130,130]
["200*200*125",200,200,125,125,60,92.5,92.5,130,130]
["200*200*100",200,200,100,100,60,80,80,130,130]
["225*225*225",225,225,225,225,80,142.5,142.5,142.5,142.5]
["225*225*200",225,225,200,200,80,130,130,142.5,142.5]
["225*225*175",225,225,175,175,80,117.5,117.5,142.5,142.5]
["225*225*150",225,225,150,150,80,105,105,142.5,142.5]
["225*225*125",225,225,125,125,60,92.5,92.5,142.5,142.5]
["225*225*100",225,225,100,100,60,80,80,142.5,142.5]
["250*250*250",250,250,250,250,80,155,155,155,155]
["250*250*225",250,250,225,225,80,142.5,142.5,155,155]
["250*250*200",250,250,200,200,80,130,130,155,155]
["250*250*175",250,250,175,175,80,117.5,117.5,155,155]
["250*250*150",250,250,150,150,80,105,105,155,155]
["250*250*125",250,250,125,125,60,92.5,92.5,155,155]
["250*250*100",250,250,100,100,60,80,80,155,155]
["275*275*275",275,275,275,275,80,167.5,167.5,167.5,167.5]
["275*275*250",275,275,250,250,80,155,155,167.5,167.5]
[{"$f":"B34&\"*\"&C34&\"*\"&D34","v":"275*275*225"},275,{"$f":"B34","v":275},225,{"$f":"D34","v":225},80,{"$f":"(D34+60)/2","v":142.5},142.5,{"$f":"B34/2+30","v":167.5},167.5]
["275*275*200",275,275,200,200,80,130,130,167.5,167.5]
["275*275*175",275,275,175,175,80,117.5,117.5,167.5,167.5]
["275*275*150",275,275,150,150,80,105,105,167.5,167.5]
["275*275*125",275,275,125,125,60,92.5,92.5,167.5,167.5]
["275*275*100",275,275,100,100,60,80,80,167.5,167.5]
["300*300*300",300,300,300,300,80,180,180,180,180]
["300*300*275",300,300,275,275,80,167.5,167.5,180,180]
["300*300*250",300,300,250,250,80,155,155,180,180]
["300*300*225",300,300,225,225,80,142.5,142.5,180,180]
["300*300*200",300,300,200,200,80,130,130,180,180]
["300*300*175",300,300,175,175,80,117.5,117.5,180,180]
["300*300*150",300,300,150,150,80,105,105,180,180]
["300*300*125",300,300,125,125,60,92.5,92.5,180,180]
["300*300*100",300,300,100,100,60,80,80,180,180]
["325*325*325",325,325,325,325,100,192.5,192.5,192.5,192.5]
["325*325*300",325,325,300,300,80,180,180,192.5,192.5]
["325*325*275",325,325,275,275,80,167.5,167.5,192.5,192.5]
["325*325*250",325,325,250,250,80,155,155,192.5,192.5]
["325*325*225",325,325,225,225,80,142.5,142.5,192.5,192.5]
["325*325*200",325,325,200,200,80,130,130,192.5,192.5]
["350*350*350",350,350,350,350,100,205,205,205,205]
["350*350*325",350,350,325,325,100,192.5,192.5,205,205]
["350*350*300",350,350,300,300,80,180,180,205,205]
["350*350*275",350,350,275,275,80,167.5,167.5,205,205]
["350*350*250",350,350,250,250,80,155,155,205,205]
["350*350*225",350,350,225,225,80,142.5,142.5,205,205]
["350*350*200",350,350,200,200,80,130,130,205,205]
["375*375*375",375,375,375,375,100,217.5,217.5,217.5,217.5]
["375*375*350",375,375,350,350,100,205,205,217.5,217.5]
["375*375*325",375,375,325,325,100,192.5,192.5,217.5,217.5]
["375*375*300",375,375,300,300,80,180,180,217.5,217.5]
[{"$f":"B66&\"*\"&C66&\"*\"&D66","v":"375*375*275"},375,{"$f":"B66","v":375},275,{"$f":"D66","v":275},80,{"$f":"(D66+60)/2","v":167.5},167.5,{"$f":"B66/2+30","v":217.5},217.5]
["375*375*250",375,375,250,250,{"$f":"IF(E67<150,60,IF(E67<325,80,100))","v":80},155,{"$f":"G67","v":155},217.5,217.5]
["400*400*400",400,400,400,400,100,230,230,230,230]
["400*400*375",400,400,375,375,100,217.5,217.5,230,230]
["400*400*350",400,400,350,350,100,205,205,230,230]
["400*400*325",400,400,325,325,100,192.5,192.5,230,230]
["400*400*300",400,400,300,300,80,180,180,230,230]
["400*400*275",400,400,275,275,80,167.5,167.5,230,230]
["400*400*250",400,400,250,250,80,155,155,230,230]
["450*450*450",450,450,450,450,100,255,255,255,255]
["450*450*400",450,450,400,400,100,230,230,255,255]
["450*450*350",450,450,350,350,100,205,205,255,255]
["450*450*300",450,450,300,300,80,180,180,255,255]
["500*500*500",500,500,500,500,100,280,280,280,280]
["500*500*450",500,500,450,450,100,255,255,280,280]
["500*500*400",500,500,400,400,100,230,230,280,280]
["500*500*350",500,500,350,350,100,205,205,280,280]
["500*500*300",500,500,300,300,80,180,180,280,280]
["550*550*550",550,550,550,550,100,305,305,305,305]
["550*550*500",550,550,500,500,100,280,280,305,305]
["550*550*450",550,550,450,450,100,255,255,305,305]
["550*550*400",550,550,400,400,100,230,230,305,305]
["550*550*350",550,550,350,350,100,205,205,305,305]
["600*600*600",600,600,600,600,100,330,330,330,330]
["600*600*550",600,600,550,550,100,305,305,330,330]
["600*600*500",600,600,500,500,100,280,280,330,330]
["600*600*450",600,600,450,450,100,255,255,330,330]
["600*600*400",600,600,400,400,100,230,230,330,330]
["650*650*650",650,650,650,650,100,355,355,355,355]
["650*650*600",650,650,600,600,100,330,330,355,355]
["650*650*550",650,650,550,550,100,305,305,355,355]
["650*650*500",650,650,500,500,100,280,280,355,355]
[{"$f":"B98&\"*\"&C98&\"*\"&D98","v":"650*650*450"},650,{"$f":"B98","v":650},450,{"$f":"D98","v":450},100,{"$f":"(D98+60)/2","v":255},255,{"$f":"B98/2+30","v":355},355]
["700*700*700",700,700,700,700,100,380,380,380,380]
["700*700*650",700,700,650,650,100,355,355,380,380]
["700*700*600",700,700,600,600,100,330,330,380,380]
["700*700*550",700,700,550,550,100,305,305,380,380]
["700*700*500",700,700,500,500,100,280,280,380,380]
["750*750*750",750,750,750,750,100,405,405,405,405]
["750*750*700",750,750,700,700,100,380,380,405,405]
["750*750*650",750,750,650,650,100,355,355,405,405]
["750*750*600",750,750,600,600,100,330,330,405,405]
["750*750*550",750,750,550,550,100,305,305,405,405]
["800*800*800",800,800,800,800,100,430,430,430,430]
["800*800*750",800,800,750,750,100,405,405,430,430]
["800*800*700",800,800,700,700,100,380,380,430,430]
["800*800*650",800,800,650,650,100,355,355,430,430]
["800*800*600",800,800,600,600,100,330,330,430,430]
["850*850*850",850,850,850,850,100,455,455,455,455]
["850*850*800",850,850,800,800,100,430,430,455,455]
["850*850*750",850,850,750,750,100,405,405,455,455]
["850*850*700",850,850,700,700,100,380,380,455,455]
["850*850*650",850,850,650,650,100,355,355,455,455]
["900*900*900",900,900,900,900,100,480,480,480,480]
["900*900*850",900,900,850,850,100,455,455,480,480]
["900*900*800",900,900,800,800,100,430,430,480,480]
["900*900*750",900,900,750,750,100,405,405,480,480]
["900*900*700",900,900,700,700,100,380,380,480,480]
["950*950*950",950,950,950,950,100,505,505,505,505]
["950*950*900",950,950,900,900,100,480,480,505,505]
["950*950*850",950,950,850,850,100,455,455,505,505]
["950*950*800",950,950,800,800,100,430,430,505,505]
["950*950*750",950,950,750,750,100,405,405,505,505]
["1000*1000*1000",1000,1000,1000,1000,100,530,530,530,530]
[{"$f":"B130&\"*\"&C130&\"*\"&D130","v":"1000*1000*950"},1000,{"$f":"B130","v":1000},950,{"$f":"D130","v":950},100,505,505,530,530]
[{"$f":"B131&\"*\"&C131&\"*\"&D131","v":"1000*1000*900"},1000,{"$f":"B131","v":1000},900,{"$f":"D131","v":900},{"$f":"IF(E131<150,60,IF(E131<325,80,100))","v":100},480,{"$f":"G131","v":480},530,530]
[{"$f":"B132&\"*\"&C132&\"*\"&D132","v":"1000*1000*850"},1000,{"$f":"B132","v":1000},850,{"$f":"D132","v":850},{"$f":"IF(E132<150,60,IF(E132<325,80,100))","v":100},455,455,530,530]
[{"$f":"B133&\"*\"&C133&\"*\"&D133","v":"1000*1000*800"},1000,{"$f":"B133","v":1000},800,{"$f":"D133","v":800},{"$f":"IF(E133<150,60,IF(E133<325,80,100))","v":100},430,430,530,530]

{"sheet":"In_SDc","index":11,"n_rows":188,"n_cols":6,"rows_kept":188,"cut":false,"hidden":false,"merged":[]}
["pipe_nominal_dia","dia1","dia2","length_center_face1","length_center_face2","length_face1_face2"]
[{"$f":"B2&\"*\"&C2","v":"75*75"},75,75,{"$f":"F2/2","v":10},{"$f":"D2","v":10},{"$f":"IF(B2=C2,20,(B2-C2)*1.4+35)","v":20}]
["100*100",100,100,10,10,20]
["100*75",100,75,35,35,70]
["125*125",125,125,10,10,20]
["125*100",125,100,35,35,70]
["150*150",150,150,10,10,20]
["150*150",150,150,10,10,20]
["150*125",150,125,35,35,70]
["150*100",150,100,52.5,52.5,105]
["175*175",175,175,10,10,20]
["175*150",175,150,35,35,70]
["175*125",175,125,52.5,52.5,105]
["175*100",175,100,70,70,140]
["200*200",200,200,10,10,20]
["200*175",200,175,35,35,70]
["200*150",200,150,52.5,52.5,105]
["200*125",200,125,70,70,140]
["200*100",200,100,87.5,87.5,175]
["225*225",225,225,10,10,20]
["225*200",225,200,35,35,70]
["225*175",225,175,52.5,52.5,105]
["225*150",225,150,70,70,140]
["225*125",225,125,87.5,87.5,175]
["250*250",250,250,10,10,20]
["250*225",250,225,35,35,70]
["250*200",250,200,52.5,52.5,105]
["250*175",250,175,70,70,140]
["250*150",250,150,87.5,87.5,175]
["250*125",250,125,105,105,210]
["275*275",275,275,10,10,20]
["275*250",275,250,35,35,70]
["275*225",275,225,52.5,52.5,105]
[{"$f":"B34&\"*\"&C34","v":"275*200"},275,200,{"$f":"F34/2","v":70},{"$f":"D34","v":70},{"$f":"IF(B34=C34,20,(B34-C34)*1.4+35)","v":140}]
["275*175",275,175,87.5,87.5,175]
["275*150",275,150,105,105,210]
["275*125",275,125,122.5,122.5,245]
["300*300",300,300,10,10,20]
["300*275",300,275,35,35,70]
["300*250",300,250,52.5,52.5,105]
["300*225",300,225,70,70,140]
["300*200",300,200,87.5,87.5,175]
["300*175",300,175,105,105,210]
["300*150",300,150,122.5,122.5,245]
["325*325",325,325,10,10,20]
["325*300",325,300,35,35,70]
["325*275",325,275,52.5,52.5,105]
["325*250",325,250,70,70,140]
["325*225",325,225,87.5,87.5,175]
["325*200",325,200,105,105,210]
["325*175",325,175,122.5,122.5,245]
["325*150",325,150,140,140,280]
["350*350",350,350,10,10,20]
["350*325",350,325,35,35,70]
["350*300",350,300,52.5,52.5,105]
["350*275",350,275,70,70,140]
["350*250",350,250,87.5,87.5,175]
["350*225",350,225,105,105,210]
["350*200",350,200,122.5,122.5,245]
["350*175",350,175,140,140,280]
["375*375",375,375,10,10,20]
["375*350",375,350,35,35,70]
["375*325",375,325,52.5,52.5,105]
["375*300",375,300,70,70,140]
["375*275",375,275,87.5,87.5,175]
[{"$f":"B66&\"*\"&C66","v":"375*250"},375,250,{"$f":"F66/2","v":105},{"$f":"D66","v":105},{"$f":"IF(B66=C66,20,(B66-C66)*1.4+35)","v":210}]
["375*225",375,225,122.5,122.5,245]
["375*200",375,200,140,140,280]
["400*400",400,400,10,10,20]
["400*375",400,375,35,35,70]
["400*350",400,350,52.5,52.5,105]
["400*325",400,325,70,70,140]
["400*300",400,300,87.5,87.5,175]
["400*275",400,275,105,105,210]
["400*250",400,250,122.5,122.5,245]
["400*225",400,225,140,140,280]
["400*200",400,200,157.5,157.5,315]
["450*450",450,450,10,10,20]
["450*400",450,400,52.5,52.5,105]
["450*375",450,375,70,70,140]
["450*350",450,350,87.5,87.5,175]
["450*325",450,325,105,105,210]
["450*300",450,300,122.5,122.5,245]
["450*275",450,275,140,140,280]
["450*250",450,250,157.5,157.5,315]
["450*225",450,225,175,175,350]
["500*500",500,500,10,10,20]
["500*450",500,450,52.5,52.5,105]
["500*400",500,400,87.5,87.5,175]
["500*375",500,375,105,105,210]
["500*350",500,350,122.5,122.5,245]
["500*325",500,325,140,140,280]
["500*300",500,300,157.5,157.5,315]
["500*275",500,275,175,175,350]
["500*250",500,250,192.5,192.5,385]
["550*550",550,550,10,10,20]
["550*500",550,500,52.5,52.5,105]
[{"$f":"B98&\"*\"&C98","v":"550*450"},550,450,{"$f":"F98/2","v":87.5},{"$f":"D98","v":87.5},{"$f":"IF(B98=C98,20,(B98-C98)*1.4+35)","v":175}]
["550*400",550,400,122.5,122.5,245]
["550*375",550,375,140,140,280]
["550*350",550,350,157.5,157.5,315]
["550*325",550,325,175,175,350]
["550*300",550,300,192.5,192.5,385]
["550*275",550,275,210,210,420]
["600*600",600,600,10,10,20]
["600*550",600,550,52.5,52.5,105]
["600*500",600,500,87.5,87.5,175]
["600*450",600,450,122.5,122.5,245]
["600*400",600,400,157.5,157.5,315]
["600*375",600,375,175,175,350]
["600*350",600,350,192.5,192.5,385]
["600*325",600,325,210,210,420]
["600*300",600,300,227.5,227.5,455]
["650*650",650,650,10,10,20]
["650*600",650,600,52.5,52.5,105]
["650*550",650,550,87.5,87.5,175]
["650*500",650,500,122.5,122.5,245]
["650*450",650,450,157.5,157.5,315]
["650*400",650,400,192.5,192.5,385]
["650*375",650,375,210,210,420]
["650*350",650,350,227.5,227.5,455]
["650*325",650,325,244.99999999999997,244.99999999999997,489.99999999999994]
["700*700",700,700,10,10,20]
["700*650",700,650,52.5,52.5,105]
["700*600",700,600,87.5,87.5,175]
["700*550",700,550,122.5,122.5,245]
["700*500",700,500,157.5,157.5,315]
["700*450",700,450,192.5,192.5,385]
["700*400",700,400,227.5,227.5,455]
[{"$f":"B130&\"*\"&C130","v":"700*375"},700,375,{"$f":"F130/2","v":244.99999999999997},{"$f":"D130","v":244.99999999999997},{"$f":"IF(B130=C130,20,(B130-C130)*1.4+35)","v":489.99999999999994}]
["700*350",700,350,262.5,262.5,525]
["750*750",750,750,10,10,20]
["750*700",750,700,52.5,52.5,105]
["750*650",750,650,87.5,87.5,175]
["750*600",750,600,122.5,122.5,245]
["750*550",750,550,157.5,157.5,315]
["750*500",750,500,192.5,192.5,385]
["750*450",750,450,227.5,227.5,455]
["750*400",750,400,262.5,262.5,525]
["750*375",750,375,280,280,560]
["750*350",750,350,297.5,297.5,595]
["800*800",800,800,10,10,20]
["800*750",800,750,52.5,52.5,105]
["800*700",800,700,87.5,87.5,175]
["800*650",800,650,122.5,122.5,245]
["800*600",800,600,157.5,157.5,315]
["800*550",800,550,192.5,192.5,385]
["800*500",800,500,227.5,227.5,455]
["800*450",800,450,262.5,262.5,525]
["800*400",800,400,297.5,297.5,595]
["850*850",850,850,10,10,20]
["850*800",850,800,52.5,52.5,105]
["850*750",850,750,87.5,87.5,175]
["850*700",850,700,122.5,122.5,245]
["850*650",850,650,157.5,157.5,315]
["850*600",850,600,192.5,192.5,385]
["850*550",850,550,227.5,227.5,455]
["850*500",850,500,262.5,262.5,525]
["850*450",850,450,297.5,297.5,595]
["850*400",850,400,332.5,332.5,665]
["900*900",900,900,10,10,20]
[{"$f":"B162&\"*\"&C162","v":"900*850"},900,850,{"$f":"F162/2","v":52.5},{"$f":"D162","v":52.5},{"$f":"IF(B162=C162,20,(B162-C162)*1.4+35)","v":105}]
["900*800",900,800,87.5,87.5,175]
["900*750",900,750,122.5,122.5,245]
["900*700",900,700,157.5,157.5,315]
["900*650",900,650,192.5,192.5,385]
["900*600",900,600,227.5,227.5,455]
["900*550",900,550,262.5,262.5,525]
["900*500",900,500,297.5,297.5,595]
["950*950",950,950,10,10,20]
["950*900",950,900,52.5,52.5,105]
["950*850",950,850,87.5,87.5,175]
["950*800",950,800,122.5,122.5,245]
["950*750",950,750,157.5,157.5,315]
["950*700",950,700,192.5,192.5,385]
["950*650",950,650,227.5,227.5,455]
["950*600",950,600,262.5,262.5,525]
["950*550",950,550,297.5,297.5,595]
["950*500",950,500,332.5,332.5,665]
["1000*1000",1000,1000,10,10,20]
["1000*950",1000,950,52.5,52.5,105]
["1000*900",1000,900,87.5,87.5,175]
["1000*850",1000,850,122.5,122.5,245]
["1000*800",1000,800,157.5,157.5,315]
["1000*750",1000,750,192.5,192.5,385]
["1000*700",1000,700,227.5,227.5,455]
["1000*650",1000,650,262.5,262.5,525]
["1000*600",1000,600,297.5,297.5,595]

{"sheet":"In_NDc","index":12,"n_rows":27,"n_cols":8,"rows_kept":27,"cut":false,"hidden":false,"merged":[]}
["pipe_nominal_dia","dia1","length_plug1","dia2","length_plug2","length_center_face1","length_center_face2","length_face1_face2"]
[{"$f":"B2&\"*\"&D2","v":"75*75"},75,{"$f":"IF(B2<150,60,IF(B2<325,80,100))","v":60},75,{"$f":"IF(D2<150,60,IF(D2<325,80,100))","v":60},{"$f":"C2","v":60},{"$f":"F2","v":60},{"$f":"C2+E2","v":120}]
[{"$f":"B3&\"*\"&D3","v":"100*100"},100,{"$f":"IF(B3<150,60,IF(B3<325,80,100))","v":60},100,{"$f":"IF(D3<150,60,IF(D3<325,80,100))","v":60},{"$f":"C3","v":60},{"$f":"F3","v":60},{"$f":"C3+E3","v":120}]
["125*125",125,60,125,60,60,60,120]
["150*150",150,80,150,80,80,80,160]
["175*175",175,80,175,80,80,80,160]
["200*200",200,80,200,80,80,80,160]
["225*225",225,80,225,80,80,80,160]
["250*250",250,80,250,80,80,80,160]
["275*275",275,80,275,80,80,80,160]
["300*300",300,80,300,80,80,80,160]
["325*325",325,100,325,100,100,100,200]
["350*350",350,100,350,100,100,100,200]
["375*375",375,100,375,100,100,100,200]
["400*400",400,100,400,100,100,100,200]
["450*450",450,100,450,100,100,100,200]
["500*500",500,100,500,100,100,100,200]
["550*550",550,100,550,100,100,100,200]
["600*600",600,100,600,100,100,100,200]
["650*650",650,100,650,100,100,100,200]
["700*700",700,100,700,100,100,100,200]
["750*750",750,100,750,100,100,100,200]
["800*800",800,100,800,100,100,100,200]
["850*850",850,100,850,100,100,100,200]
["900*900",900,100,900,100,100,100,200]
["950*950",950,100,950,100,100,100,200]
["1000*1000",1000,100,1000,100,100,100,200]

{"sheet":"In_PP","index":13,"n_rows":11,"n_cols":8,"rows_kept":11,"cut":false,"hidden":false,"merged":[]}
["pipe_nominal_dia","pipe_thickness","pipe_outer_dia","pipe_inner_dia","fitting_outer_dia","fitting_inner_dia","length_connection","flow_volume"]
[20,2.8,27.2,{"$f":"C2-B2*2","v":21.6},33,{"$f":"C2","v":27.2},9.5,{"$f":"ROUND(3.14159*(D2/2/1000)*(D2/2/1000)*1*60*1000,0)","v":22}]
[25,3.2,34,27.6,41,{"$f":"C3","v":34},10.4,36]
[32,3.5,42.7,35.700000000000003,50,42.7,12.7,60]
[40,3.5,48.6,41.6,56,48.6,12.7,82]
[50,3.8,60.5,52.9,69,60.5,15.9,132]
[65,4.2,76.3,67.899999999999991,86,76.3,17.5,217]
[80,4.2,89.1,80.699999999999989,99,89.1,20.6,307]
[100,4.5,114.3,105.3,127,114.3,25.4,523]
[125,4.5,139.80000000000001,130.80000000000001,154,139.80000000000001,28.6,806]
[150,5,165.2,155.19999999999999,182,165.2,28.9,1135]

{"sheet":"In_LP","index":14,"n_rows":12,"n_cols":5,"rows_kept":12,"cut":false,"hidden":false,"merged":[]}
["pipe_nominal_dia","dia1","dia3","length_center_face1","length_center_face3"]
[{"$f":"B2&\"*\"&C2","v":"15*15"},15,15,27,{"$f":"D2","v":27}]
[{"$f":"B3&\"*\"&C3","v":"20*20"},20,20,32,{"$f":"D3","v":32}]
[{"$f":"B4&\"*\"&C4","v":"25*25"},25,25,38,{"$f":"D4","v":38}]
["32*32",32,32,46,46]
["40*40",40,40,48,48]
["50*50",50,50,57,57]
["65*65",65,65,69,69]
["80*80",80,80,78,78]
["100*100",100,100,97,97]
["125*125",125,125,113,113]
["150*150",150,150,132,132]

{"sheet":"In_TP","index":15,"n_rows":46,"n_cols":7,"rows_kept":46,"cut":false,"hidden":false,"merged":[]}
["pipe_nominal_dia","dia1","dia2","dia3","length_center_face1","length_center_face2","length_center_face3"]
[{"$f":"B2&\"*\"&C2&\"*\"&D2","v":"20*20*20"},20,20,20,32,{"$f":"E2","v":32},32]
[{"$f":"B3&\"*\"&C3&\"*\"&D3","v":"25*25*25"},25,25,25,38,{"$f":"E3","v":38},38]
["25*25*20",25,25,20,34,34,35]
["32*32*32",32,32,32,46,46,46]
["32*32*25",32,32,25,40,40,42]
["32*32*20",32,32,20,38,38,40]
["40*40*40",40,40,40,48,48,48]
["40*40*32",40,40,32,45,45,48]
["40*40*25",40,40,25,41,41,45]
["40*40*20",40,40,20,38,38,43]
["50*50*50",50,50,50,57,57,57]
["50*50*40",50,50,40,52,52,55]
["50*50*32",50,50,32,48,48,54]
["50*50*25",50,50,25,44,44,51]
["50*50*20",50,50,20,41,41,49]
["65*65*65",65,65,65,69,69,69]
["65*65*50",65,65,50,60,60,65]
["65*65*40",65,65,40,55,55,62]
["65*65*32",65,65,32,52,52,62]
["65*65*25",65,65,25,48,48,60]
["65*65*20",65,65,20,44,44,58]
["80*80*80",80,80,80,78,{"$f":"E23","v":78},78]
["80*80*65",80,80,65,72,72,75]
[{"$f":"B25&\"*\"&C25&\"*\"&D25","v":"80*80*50"},80,80,50,62,62,72]
["80*80*40",80,80,40,58,58,72]
["80*80*32",80,80,32,55,55,70]
["80*80*25",80,80,25,50,50,68]
["80*80*20",80,80,20,46,46,66]
["100*100*100",100,100,100,97,97,97]
["100*100*80",100,100,80,83,83,91]
["100*100*65",100,100,65,78,78,90]
["100*100*50",100,100,50,69,69,87]
["100*100*40",100,100,40,63,63,86]
["100*100*25",100,100,25,57,57,83]
["100*100*20",100,100,20,54,54,80]
["125*125*125",125,125,125,113,113,113]
["125*125*100",125,125,100,100,100,111]
["125*125*80",125,125,80,87,87,107]
["125*125*65",125,125,65,81,81,105]
[{"$f":"B41&\"*\"&C41&\"*\"&D41","v":"125*125*50"},125,125,50,72,72,103]
["125*125*40",125,125,40,66,{"$f":"E42","v":66},100]
["150*150*150",150,150,150,132,132,132]
["150*150*125",150,150,125,116,116,128]
["150*150*100",150,150,100,102,102,125]
["150*150*50",150,150,50,75,75,116]

{"sheet":"In_WP","index":16,"n_rows":18,"n_cols":7,"rows_kept":18,"cut":false,"hidden":false,"merged":[]}
["pipe_nominal_dia","dia1","dia3","dia4","length_center_face1","length_center_face3","length_center_face4"]
[{"$f":"B2&\"*\"&C2&\"*\"&D2","v":"20*20*20"},20,20,20,32,32,{"$f":"F2","v":32}]
[{"$f":"B3&\"*\"&C3&\"*\"&D3","v":"25*25*25"},25,25,25,38,38,{"$f":"F3","v":38}]
["32*32*32",32,32,32,46,46,46]
["40*40*40",40,40,40,48,48,48]
["50*50*50",50,50,50,57,57,57]
["50*50*40",50,50,40,52,52,52]
["50*50*32",50,50,32,48,48,48]
["65*65*65",65,65,65,69,69,69]
["80*80*80",80,80,80,78,78,{"$f":"F10","v":78}]
["100*100*100",100,100,100,97,97,97]
["125*125*125",125,125,125,113,113,113]
["125*125*100",125,125,100,100,100,100]
["125*125*80",125,125,80,87,87,87]
["125*125*65",125,125,65,81,81,81]
[{"$f":"B16&\"*\"&C16&\"*\"&D16","v":"125*125*50"},125,125,50,72,72,72]
["125*125*40",125,125,40,66,66,{"$f":"F17","v":66}]
["150*150*150",150,150,150,132,132,132]

{"sheet":"In_XP","index":17,"n_rows":46,"n_cols":9,"rows_kept":46,"cut":false,"hidden":false,"merged":[]}
["pipe_nominal_dia","dia1","dia2","dia3","dia4","length_center_face1","length_center_face2","length_center_face3","length_center_face4"]
[{"$f":"B2&\"*\"&C2&\"*\"&D2&\"*\"&E2","v":"20*20*20*20"},20,20,20,20,32,{"$f":"F2","v":32},32,{"$f":"H2","v":32}]
[{"$f":"B3&\"*\"&C3&\"*\"&D3&\"*\"&E3","v":"25*25*25*25"},25,25,25,25,38,{"$f":"F3","v":38},38,{"$f":"H3","v":38}]
["25*25*20*20",25,25,20,20,34,34,35,35]
["32*32*32*32",32,32,32,32,46,46,46,46]
["32*32*25*25",32,32,25,25,40,40,42,42]
["32*32*20*20",32,32,20,20,38,38,40,40]
["40*40*40*40",40,40,40,40,48,48,48,48]
["40*40*32*32",40,40,32,32,45,45,48,48]
["40*40*25*25",40,40,25,25,41,41,45,45]
["40*40*20*20",40,40,20,20,38,38,43,43]
["50*50*50*50",50,50,50,50,57,57,57,57]
["50*50*40*40",50,50,40,40,52,52,55,55]
["50*50*32*32",50,50,32,32,48,48,54,54]
["50*50*25*25",50,50,25,25,44,44,51,51]
["50*50*20*20",50,50,20,20,41,41,49,49]
["65*65*65*65",65,65,65,65,69,69,69,69]
["65*65*50*50",65,65,50,50,60,60,65,65]
["65*65*40*40",65,65,40,40,55,55,62,62]
["65*65*32*32",65,65,32,32,52,52,62,62]
["65*65*25*25",65,65,25,25,48,48,60,60]
["65*65*20*20",65,65,20,20,44,44,58,58]
["80*80*80*80",80,80,80,80,78,{"$f":"F23","v":78},78,78]
["80*80*65*65",80,80,65,65,72,72,75,75]
["80*80*50*50",80,80,50,50,62,62,72,72]
["80*80*40*40",80,80,40,40,58,58,72,72]
["80*80*32*32",80,80,32,32,55,55,70,70]
["80*80*25*25",80,80,25,25,50,50,68,68]
["80*80*20*20",80,80,20,20,46,46,66,66]
["100*100*100*100",100,100,100,100,97,97,97,97]
[{"$f":"B31&\"*\"&C31&\"*\"&D31&\"*\"&E31","v":"100*100*80*80"},100,100,80,80,83,83,91,91]
["100*100*65*65",100,100,65,65,78,78,90,90]
["100*100*50*50",100,100,50,50,69,69,87,87]
["100*100*40*40",100,100,40,40,63,63,86,86]
["100*100*25*25",100,100,25,25,57,57,83,83]
["100*100*20*20",100,100,20,20,54,54,80,80]
["125*125*125*125",125,125,125,125,113,113,113,113]
["125*125*100*100",125,125,100,100,100,100,111,{"$f":"H38","v":111}]
["125*125*80*80",125,125,80,80,87,87,107,107]
["125*125*65*65",125,125,65,65,81,81,105,105]
["125*125*50*50",125,125,50,50,72,72,103,103]
["125*125*40*40",125,125,40,40,66,{"$f":"F42","v":66},100,100]
["150*150*150*150",150,150,150,150,132,132,132,132]
["150*150*125*125",150,150,125,125,116,116,128,128]
["150*150*100*100",150,150,100,100,102,102,125,125]
["150*150*50*50",150,150,50,50,75,75,116,116]

{"sheet":"In_SP","index":18,"n_rows":42,"n_cols":6,"rows_kept":42,"cut":false,"hidden":false,"merged":[]}
["pipe_nominal_dia","dia1","dia2","length_center_face1","length_center_face2","length_face1_face2"]
[{"$f":"B2&\"*\"&C2","v":"15*15"},15,15,{"$f":"F2/2","v":17.5},{"$f":"D2","v":17.5},35]
[{"$f":"B3&\"*\"&C3","v":"20*20"},20,20,{"$f":"F3/2","v":19},{"$f":"D3","v":19},38]
["20*15",20,15,{"$f":"F4/2","v":22.5},{"$f":"D4","v":22.5},45]
["25*25",25,25,{"$f":"F5/2","v":22.5},{"$f":"D5","v":22.5},45]
["25*20",25,20,21,21,42]
["32*32",32,32,25,25,50]
["32*25",32,25,24,24,48]
["32*20",32,20,24,24,48]
["40*40",40,40,27.5,27.5,55]
["40*32",40,32,26,26,52]
[{"$f":"B12&\"*\"&C12","v":"40*25"},40,25,26,26,52]
["40*20",40,20,26,26,52]
["50*50",50,50,30,30,60]
["50*40",50,40,29,29,58]
["50*32",50,32,29,29,58]
["50*25",50,25,29,29,58]
["50*20",50,20,29,29,58]
["65*65",65,65,35,35,70]
["65*50",65,50,32.5,32.5,65]
["65*40",65,40,32.5,32.5,65]
[{"$f":"B22&\"*\"&C22","v":"65*32"},65,32,32.5,32.5,65]
["65*25",65,25,32.5,32.5,65]
["80*80",80,80,37.5,{"$f":"D24","v":37.5},75]
["80*65",80,65,{"$f":"F25/2","v":36},36,72]
["80*50",80,50,36,36,72]
["80*40",80,40,36,36,72]
["80*32",80,32,36,36,72]
["80*25",80,25,36,36,72]
["100*100",100,100,42.5,42.5,85]
["100*80",100,80,42.5,42.5,85]
[{"$f":"B32&\"*\"&C32","v":"100*65"},100,65,42.5,42.5,85]
["100*50",100,50,42.5,42.5,85]
["125*125",125,125,47.5,47.5,95]
["125*100",125,100,47.5,47.5,95]
["125*80",125,80,47.5,47.5,95]
[{"$f":"B37&\"*\"&C37","v":"125*65"},125,65,{"$f":"F37/2","v":47.5},{"$f":"D37","v":47.5},95]
["150*150",150,150,52.5,52.5,105]
["150*125",150,125,52.5,52.5,105]
["150*100",150,100,52.5,52.5,105]
["150*80",150,80,52.5,52.5,105]
["150*50",150,50,52.5,52.5,105]

{"sheet":"In_NP","index":19,"n_rows":11,"n_cols":7,"rows_kept":11,"cut":false,"hidden":false,"merged":[]}
["pipe_nominal_dia","dia1","dia2","length_center_face1","length_center_face2","length_face1_face2","length_screw"]
[{"$f":"B2&\"*\"&C2","v":"20*20"},20,20,{"$f":"F2/2-G2","v":16},{"$f":"D2","v":16},51,{"$f":"In_PP!G2","v":9.5}]
[{"$f":"B3&\"*\"&C3","v":"25*25"},25,25,18.100000000000001,{"$f":"D3","v":18.100000000000001},57,{"$f":"In_PP!G3","v":10.4}]
["32*32",32,32,16.3,16.3,58,{"$f":"In_PP!G4","v":12.7}]
["40*40",40,40,17.3,17.3,60,{"$f":"In_PP!G5","v":12.7}]
["50*50",50,50,17.100000000000001,17.100000000000001,66,{"$f":"In_PP!G6","v":15.9}]
["65*65",65,65,19,19,73,{"$f":"In_PP!G7","v":17.5}]
["80*80",80,80,19.899999999999999,19.899999999999999,81,{"$f":"In_PP!G8","v":20.6}]
["100*100",100,100,20.6,20.6,92,{"$f":"In_PP!G9","v":25.4}]
["125*125",125,125,23.4,23.4,104,{"$f":"In_PP!G10","v":28.6}]
["150*150",150,150,29.1,29.1,116,{"$f":"In_PP!G11","v":28.9}]